View In:
ArcMap
ArcGIS Explorer
ArcGIS JavaScript
Google Earth
ArcGIS.com Map
View Footprint In:
Google Earth
Service Description: This map service provides information on average broadband download speeds for Maryland by county. As part of the Maryland Broadband Mapping Initiative, the purpose of this map service is to show accurate broadband availability data and coverage throughout Maryland. Data on upload and download speeds was gathered using speed test software from Ookla Net Metrics (www.ookla.com).
Map Name: Layers
Legend
All Layers and Tables
Layers:
Tables:
Description:
Copyright Text:
Spatial Reference: 26985
Single Fused Map Cache: true
Tile Info:
- Height: 512
- Width: 512
- DPI: 96
- Levels of Detail: (# Levels: 12)
-
Level ID: 0
[Start Tile,
End Tile]
Resolution: 610.811687419209
Scale: 2308574.98883465
-
Level ID: 1
[Start Tile,
End Tile]
Resolution: 305.405843709603
Scale: 1154287.49441732
-
Level ID: 2
[Start Tile,
End Tile]
Resolution: 152.702921854802
Scale: 577143.747208662
-
Level ID: 3
[Start Tile,
End Tile]
Resolution: 76.3514609274011
Scale: 288571.873604331
-
Level ID: 4
[Start Tile,
End Tile]
Resolution: 38.1757304637004
Scale: 144285.936802165
-
Level ID: 5
[Start Tile,
End Tile]
Resolution: 19.0878652318503
Scale: 72142.9684010827
-
Level ID: 6
[Start Tile,
End Tile]
Resolution: 9.54393261592515
Scale: 36071.4842005414
-
Level ID: 7
[Start Tile,
End Tile]
Resolution: 4.77196630796257
Scale: 18035.7421002707
-
Level ID: 8
[Start Tile,
End Tile]
Resolution: 2.38598315398128
Scale: 9017.87105013534
-
Level ID: 9
[Start Tile,
End Tile]
Resolution: 1.19299157699064
Scale: 4508.93552506767
-
Level ID: 10
[Start Tile,
End Tile]
Resolution: 0.596495788486369
Scale: 2254.4677625
-
Level ID: 11
[Start Tile,
End Tile]
Resolution: 0.298247894243184
Scale: 1127.23388125
- Format: PNG32
- Compression Quality: 0
-
Origin:
- Spatial Reference: 26985
Initial Extent:
XMin: 122335.162020732
YMin: -40069.1055610078
XMax: 633155.915879268
YMax: 298870.330261008
Spatial Reference: 26985
Full Extent:
XMin: 165965.121575
YMin: 15513.5445249991
XMax: 589526.781524999
YMax: 241206.787575001
Spatial Reference: 26985
Units: esriMeters
Supported Image Format Types: PNG24,PNG,JPG,DIB,TIFF,EMF,PS,PDF,GIF,SVG,SVGZ,AI,BMP
Document Info:
- Title: BB_AllBroadband
- Author: clbell
- Comments:
- Subject:
- Category:
- Keywords:
- Credits:
Supported Interfaces:
REST
SOAP
WMS
WFS
Supported Operations:
Export Map
Identify
Find
Generate KML